BEGIN:VCALENDAR
VERSION:2.0
PRODID:-//eventon.com NONSGML v1.0//EN
CALSCALE:GREGORIAN
METHOD:PUBLISH
BEGIN:VEVENT
UID:69e5fdcce49d4
DTSTAMP:20260420T101956Z
DTSTART:20201012
DTEND:20201013
LOCATION:
SUMMARY:Draft AASHTO Strategic Plan Web Meeting
DESCRIPTION:Draft AASHTO Strategic Plan Web Meeting\nhttps://www.aashtoplan
 .com/events/draft-aashto-strategic-plan-web-meeting/
URL:https://www.aashtoplan.com/events/draft-aashto-strategic-plan-web-meeting/
END:VEVENT
END:VCALENDAR